BEGIN:VCALENDAR
VERSION:2.0
PRODID:LFV Website-Kit
METHOD:PUBLISH
BEGIN:VEVENT
UID:lfv-30034469-4dfa-4558-a2cb-f402458e2182
LOCATION:
SUMMARY:Abbau Feuerwehrfest
DESCRIPTION:Termin Link: https://schernfeld.feuerwehren.bayern/termine/abbau-feuerwehrfest/
URL:https://schernfeld.feuerwehren.bayern/termine/abbau-feuerwehrfest/
CLASS:PRIVATE
DTSTART;TZID=Europe/Berlin:20260615T000000
DTEND;TZID=Europe/Berlin:20260615T010000
DTSTAMP:20260422T085027Z
END:VEVENT
END:VCALENDAR