BEGIN:VCALENDAR
VERSION:2.0
PRODID:LFV Website-Kit
METHOD:PUBLISH
BEGIN:VEVENT
UID:lfv-1ae38e0d-9f94-4e10-9a31-f3e7d4c889b4
LOCATION:
SUMMARY:Feuerwehrfest 150 Jahre Freiwillige Feuerwehr Schernfeld
DESCRIPTION:Termin Link: https://schernfeld.feuerwehren.bayern/termine/feuerwehrfest-150-jahre-freiwillige-feuerwehr-schernfeld/
URL:https://schernfeld.feuerwehren.bayern/termine/feuerwehrfest-150-jahre-freiwillige-feuerwehr-schernfeld/
CLASS:PRIVATE
DTSTART;VALUE=DATE:20260612
DTEND;VALUE=DATE:20260615
DTSTAMP:20260422T085225Z
END:VEVENT
END:VCALENDAR